BEGIN:VCALENDAR
VERSION:2.0
PRODID:-//ChamberMaster//Event Calendar 2.0//EN
METHOD:PUBLISH
X-PUBLISHED-TTL:P3D
REFRESH-INTERVAL:P3D
CALSCALE:GREGORIAN
BEGIN:VEVENT
DTSTART:20110120T200000Z
DTEND:20110120T220000Z
X-MICROSOFT-CDO-ALLDAYEVENT:FALSE
SUMMARY:Credit Report Seminar
DESCRIPTION:Our next seminar will be on Thursday\,  Jan. 20th at 2:00pm.  \n\nWe will review the new Risk Based Pricing Notices\, and the Credit Score Notices. \n\nWe will also review how to pull and read a credit report\, \n\nthe different formats\, and different types of reports available. \n\n\n\nWe will also look at the types of credit scores and how they are different.  \n\n\n\nPlease call or e-mail us and let us know if you can attend.
X-ALT-DESC;FMTTYPE=text/html:Our next seminar will be on Thursday\,  Jan. 20th at 2:00pm.  \n<br>We will review the new Risk Based Pricing Notices\, and the Credit Score Notices. \n<br>We will also review how to pull and read a credit report\, \n<br>the different formats\, and different types of reports available. \n<br>\n<br>We will also look at the types of credit scores and how they are different.  \n<br>\n<br>Please call or e-mail us and let us know if you can attend.
LOCATION:11 N 6th St\, Suite B
UID:e.112.5305
SEQUENCE:3
DTSTAMP:20260424T105921Z
URL:http://www.business.pekinchamber.com/events/details/credit-report-seminar-01-20-2011-5305
END:VEVENT

END:VCALENDAR
