BEGIN:VCALENDAR
VERSION:2.0
PRODID:-//ChamberMaster//Event Calendar 2.0//EN
METHOD:PUBLISH
X-PUBLISHED-TTL:P3D
REFRESH-INTERVAL:P3D
CALSCALE:GREGORIAN
BEGIN:VEVENT
DTSTART:20100522T140000Z
DTEND:20100522T190000Z
X-MICROSOFT-CDO-ALLDAYEVENT:FALSE
SUMMARY:Craft & Vendor Sale
DESCRIPTION:Craft & Vendor Sale - Outside Rain or Shine\n\nStop by the Avon Booth\, pick up the latest Avon brochure and Enter to Win a 100 Poses Barbie and Barbie Hot Pink Convertible!\n\nFeaturing Skin So Soft Bug Guard Suncreen and lots of your favorite Avon products.
X-ALT-DESC;FMTTYPE=text/html:Craft &amp\; Vendor Sale - Outside Rain or Shine\n<br>Stop by the Avon Booth\, pick up the latest Avon brochure and Enter to Win a 100 Poses Barbie and Barbie Hot Pink Convertible!\n<br>Featuring Skin So Soft Bug Guard Suncreen and lots of your favorite Avon products.
LOCATION:Franciscan Recreation Complex 908 Sterling Avenue West Peoria\, IL 61604
UID:e.112.4902
SEQUENCE:3
DTSTAMP:20260422T221124Z
URL:http://www.business.pekinchamber.com/events/details/craft-vendor-sale-05-22-2010-4902
END:VEVENT

END:VCALENDAR
