BEGIN:VCALENDAR
VERSION:2.0
PRODID:-//ChamberMaster//Event Calendar 2.0//EN
METHOD:PUBLISH
X-PUBLISHED-TTL:P3D
REFRESH-INTERVAL:P3D
CALSCALE:GREGORIAN
BEGIN:VEVENT
DTSTART:20090319T230000Z
DTEND:20090320T020000Z
X-MICROSOFT-CDO-ALLDAYEVENT:FALSE
SUMMARY:Community Leadership Academy Graduation Dinner
DESCRIPTION:Graduation Dinner\, featuring Brad McMillan\, Executive Director of the Institute for Principled Leadership in Public Service
X-ALT-DESC;FMTTYPE=text/html:<div>Graduation Dinner\, featuring Brad McMillan\, Executive Director of the Institute for Principled Leadership in Public Service</div>
LOCATION:Pekin Country Club
UID:e.112.3382
SEQUENCE:3
DTSTAMP:20260423T184329Z
URL:http://www.business.pekinchamber.com/events/details/community-leadership-academy-graduation-dinner-03-19-2009-3382
END:VEVENT

END:VCALENDAR
