BEGIN:VCALENDAR
VERSION:2.0
PRODID:-//ChamberMaster//Event Calendar 2.0//EN
METHOD:PUBLISH
X-PUBLISHED-TTL:P3D
REFRESH-INTERVAL:P3D
CALSCALE:GREGORIAN
BEGIN:VEVENT
DTSTART:20090317T180000Z
DTEND:20090317T200000Z
X-MICROSOFT-CDO-ALLDAYEVENT:FALSE
SUMMARY:Community Leadership Academy Field Trip
DESCRIPTION:Field Trip #9Tour of FCI Pekin (Federal Correctional Institution)
X-ALT-DESC;FMTTYPE=text/html:<div><u>Field Trip #9</u></div><div>Tour of FCI Pekin (Federal Correctional Institution)</div>
LOCATION:
UID:e.112.3383
SEQUENCE:3
DTSTAMP:20260423T185417Z
URL:http://www.business.pekinchamber.com/events/details/community-leadership-academy-field-trip-03-17-2009-3383
END:VEVENT

END:VCALENDAR
