BEGIN:VCALENDAR
VERSION:2.0
PRODID:-//ChamberMaster//Event Calendar 2.0//EN
METHOD:PUBLISH
X-PUBLISHED-TTL:P3D
REFRESH-INTERVAL:P3D
CALSCALE:GREGORIAN
BEGIN:VEVENT
DTSTART:20090310T130000Z
DTEND:20090310T150000Z
X-MICROSOFT-CDO-ALLDAYEVENT:FALSE
SUMMARY:Community Leadership Academy Field Trip
DESCRIPTION:Field Trip #8Agency Tours:  TCRC\, Boys & Girls Club\, YWCA of Pekin
X-ALT-DESC;FMTTYPE=text/html:<div><u>Field Trip #8</u></div><div>Agency Tours:&nbsp\; TCRC\, Boys &amp\; Girls Club\, YWCA of Pekin</div>
LOCATION:Carpool with other participants
UID:e.112.3384
SEQUENCE:3
DTSTAMP:20260423T185350Z
URL:http://www.business.pekinchamber.com/events/details/community-leadership-academy-field-trip-03-10-2009-3384
END:VEVENT

END:VCALENDAR
