BEGIN:VCALENDAR
VERSION:2.0
PRODID:-//ChamberMaster//Event Calendar 2.0//EN
METHOD:PUBLISH
X-PUBLISHED-TTL:P3D
REFRESH-INTERVAL:P3D
CALSCALE:GREGORIAN
BEGIN:VEVENT
DTSTART:20090303T140000Z
DTEND:20090303T160000Z
X-MICROSOFT-CDO-ALLDAYEVENT:FALSE
SUMMARY:Community Leadership Academy Field Trip
DESCRIPTION:Field Trip #8Agency Tours:  Tazewell County Children's Advocacy Center\; Salvation Army\; United Way
X-ALT-DESC;FMTTYPE=text/html:<div><u>Field Trip #8</u></div><div>Agency Tours:&nbsp\; Tazewell County Children's Advocacy Center\; Salvation Army\; United Way</div><div>&nbsp\;</div>
LOCATION:Meet at Children's Advocacy Center Park in Pekin Public Library lot
UID:e.112.3391
SEQUENCE:3
DTSTAMP:20260423T184457Z
URL:http://www.business.pekinchamber.com/events/details/community-leadership-academy-field-trip-03-03-2009-3391
END:VEVENT

END:VCALENDAR
