BEGIN:VCALENDAR
VERSION:2.0
PRODID:-//ChamberMaster//Event Calendar 2.0//EN
METHOD:PUBLISH
X-PUBLISHED-TTL:P3D
REFRESH-INTERVAL:P3D
CALSCALE:GREGORIAN
BEGIN:VEVENT
DTSTART:20090312T120000Z
DTEND:20090312T140000Z
X-MICROSOFT-CDO-ALLDAYEVENT:FALSE
SUMMARY:Community Leadership Academy Class
DESCRIPTION:Class #10\nCommunity Organizations\, TAPS\; Miller Center\; House of Hope\; Christian Civic Outreach\; Pekin Area Chamber of Commerce\, Bill Fleming\, Executive Director.
X-ALT-DESC;FMTTYPE=text/html:<p><font size="2"><u>Class #10</u><br /></font><font size="2"><em>Community Organizations</em>\,&nbsp\;TAPS\; Miller Center\; House of Hope\; Christian Civic Outreach\; Pekin Area Chamber of Commerce\, Bill Fleming\, Executive Director.</font></p>
LOCATION:Pekin Community High SchoolRoom B220
UID:e.112.3381
SEQUENCE:3
DTSTAMP:20260423T184323Z
URL:http://www.business.pekinchamber.com/events/details/community-leadership-academy-class-03-12-2009-3381
END:VEVENT

END:VCALENDAR
