BEGIN:VCALENDAR
VERSION:2.0
PRODID:-//ChamberMaster//Event Calendar 2.0//EN
METHOD:PUBLISH
X-PUBLISHED-TTL:P3D
REFRESH-INTERVAL:P3D
CALSCALE:GREGORIAN
BEGIN:VEVENT
DTSTART:20081205T230000Z
DTEND:20081206T020000Z
X-MICROSOFT-CDO-ALLDAYEVENT:FALSE
SUMMARY:Christmas on Court Luminary Walk
DESCRIPTION:Over 1\,000 candleight luminaries bathe downtown Pekin with a warm\, festive glow for this early evening Business Open House.  Strolling carolers\, horse-drawn carriage rides\, outdoor theatre and photos with Santa.
X-ALT-DESC;FMTTYPE=text/html:<div>Over 1\,000 candleight luminaries bathe downtown Pekin with a warm\, festive glow for this early evening Business Open House.&nbsp\; Strolling carolers\, horse-drawn carriage rides\, outdoor theatre and photos with Santa.</div>
LOCATION:Various locations throughout downtown Pekin
UID:e.112.3209
SEQUENCE:3
DTSTAMP:20260423T233427Z
URL:http://www.business.pekinchamber.com/events/details/christmas-on-court-luminary-walk-12-05-2008-3209
END:VEVENT

END:VCALENDAR
