BEGIN:VCALENDAR
VERSION:2.0
PRODID:-//ChamberMaster//Event Calendar 2.0//EN
METHOD:PUBLISH
X-PUBLISHED-TTL:P3D
REFRESH-INTERVAL:P3D
CALSCALE:GREGORIAN
BEGIN:VEVENT
DTSTART:20100416T230000Z
DTEND:20100417T020000Z
X-MICROSOFT-CDO-ALLDAYEVENT:FALSE
SUMMARY:Children's Advocacy Center Trivia Night
DESCRIPTION:Children's Advocacy CenterTrivia Night
X-ALT-DESC;FMTTYPE=text/html:<div>Children's Advocacy Center</div><div>Trivia Night</div>
LOCATION:Embassy SuitesEast Peoria\, IL
UID:e.112.4867
SEQUENCE:3
DTSTAMP:20260422T234714Z
URL:http://www.business.pekinchamber.com/events/details/children-s-advocacy-center-trivia-night-04-16-2010-4867
END:VEVENT

END:VCALENDAR
