BEGIN:VCALENDAR
VERSION:2.0
PRODID:-//ChamberMaster//Event Calendar 2.0//EN
METHOD:PUBLISH
X-PUBLISHED-TTL:P3D
REFRESH-INTERVAL:P3D
CALSCALE:GREGORIAN
BEGIN:VEVENT
DTSTART:20080515T130000Z
DTEND:20080515T160000Z
X-MICROSOFT-CDO-ALLDAYEVENT:FALSE
SUMMARY:Chamber Workshop: On A Clear Day You Can See The Top Of Your Desk
DESCRIPTION:On a Clear Day You Can See The Top of Your Desk!Are you looking to implement or restore an organization plan for your office? Then\, this presentation is for you. You will learn:What organization is and what it is notThe hard and soft costs of disorganizationWhere & how to start getting organizedEasy and effective methods for deciding what to do with information as it comes into your officeThe 6 questions you should ask before you throw "it" awayProven filing strategies that help even the most disorganizedEmail strategies to help you manage your overgrowing inbox This workshop will be presented by Stephanie L. H. Calahan\, a productivity and organization consultant\, speaker and author.  Stephanie is passionate about putting proven strategies into action that will help you get organized and stay productive and organized. Her humor\, enthusiasm\, honesty and common sense have encouraged many nationwide at meetings and workshops. Her audiences learn usable ideas that they can incorporate into their business and personal lives. She has developed presentations to help even the most "disorganized" save time\, money and limit frustration by utilizing her sound advice and practical hints. Take overwhelm out of paper! If you\, your group\, or your entire office could benefit from learning easy and practical skills in a creative setting\, this is the session for you.  Register today by calling the Pekin Area Chamber of Commerce\, (309) 346-2106.
X-ALT-DESC;FMTTYPE=text/html:<div><font size="5"><p align="left">On a Clear Day You Can See The Top of Your Desk!</p></font><font size="3"><p align="left">Are you looking to implement&mdash\;or restore&mdash\;an organization plan for your office? Then\, this presentation is for you. You will learn:</p><ul><li>What organization is and what it is not</li><li>The hard and soft costs of disorganization</li><li>Where &amp\; how to start getting organized</li><li>Easy and effective methods for deciding what to do with information as it comes into your office</li><li>The 6 questions you should ask before you throw &quot\;it&quot\; away</li><li>Proven filing strategies that help even the most disorganized</li><li>Email strategies to help you manage your overgrowing inbox&nbsp\;</li></ul>This workshop will be presented by Stephanie L. H. Calahan\, a productivity and organization consultant\, speaker and author.&nbsp\; Stephanie is passionate about putting proven strategies into action that </font><font size="3"><font face="Arial-BoldMT-Identity-H" size="3">will help you get organized and stay productive and organized. Her humor\, enthusiasm\, honesty and common sense have encouraged many nationwide at meetings and workshops. Her audiences learn usable ideas that they can incorporate into their business and personal lives. She has developed presentations to help even the most &ldquo\;disorganized&rdquo\; save time\, money and limit frustration by utilizing her sound advice and practical hints. Take overwhelm out of paper!<p align="left">&nbsp\;</p></font>If you\, your group\, or your entire office could benefit from learning easy and practical skills in a creative setting\, this is the session for you.&nbsp\; Register today by calling the Pekin Area Chamber of Commerce\, (309) 346-2106.</font></div>
LOCATION:Pekin Hospital600 S. 13thLower Level - Park Court Conference Room
UID:e.112.3151
SEQUENCE:3
DTSTAMP:20260424T091955Z
URL:http://www.business.pekinchamber.com/events/details/chamber-workshop-on-a-clear-day-you-can-see-the-top-of-your-desk-05-15-2008-3151
END:VEVENT

END:VCALENDAR
