BEGIN:VCALENDAR
VERSION:2.0
PRODID:-//ChamberMaster//Event Calendar 2.0//EN
METHOD:PUBLISH
X-PUBLISHED-TTL:P3D
REFRESH-INTERVAL:P3D
CALSCALE:GREGORIAN
BEGIN:VEVENT
DTSTART:20091114T000000Z
DTEND:20091114T030000Z
X-MICROSOFT-CDO-ALLDAYEVENT:FALSE
SUMMARY:Chamber Challenge Trivia Nite
DESCRIPTION:Our 5th Chamber Challenge Trivia Nite will be a lucky night.  Join us for a fun and exciting evening as the Chamber Ambassadors present the fifth annual Chamber Challenge Trivia Nite. In addition to fascinating trivia questions\, there will be opportunities to participate in interactive games\, a silent auction\, and a 50/50 raffle. We encourage you to decorate your table and dress in costume or your team colors or uniforms.
X-ALT-DESC;FMTTYPE=text/html:<div>Our 5th Chamber Challenge Trivia Nite will be a lucky night.&nbsp\;&nbsp\;<span lang="EN">Join us for a fun and exciting evening as the Chamber Ambassadors present the fifth annual Chamber Challenge Trivia Nite. In addition to fascinating trivia questions\, there will be opportunities to participate in interactive games\, a silent auction\, and a 50/50 raffle. We encourage you to decorate your table and dress in costume or your team colors or uniforms.</span></div>
LOCATION:Knights of Columbus Hall715 N. 11th\, Pekin
UID:e.112.3731
SEQUENCE:3
DTSTAMP:20260423T070721Z
URL:http://www.business.pekinchamber.com/events/details/chamber-challenge-trivia-nite-11-13-2009-3731
END:VEVENT

END:VCALENDAR
