BEGIN:VCALENDAR
VERSION:2.0
PRODID:-//ChamberMaster//Event Calendar 2.0//EN
METHOD:PUBLISH
X-PUBLISHED-TTL:P3D
REFRESH-INTERVAL:P3D
CALSCALE:GREGORIAN
BEGIN:VEVENT
DTSTART:20101029T230000Z
DTEND:20101030T020000Z
X-MICROSOFT-CDO-ALLDAYEVENT:FALSE
SUMMARY:Chamber Challenge Trivia Nite
DESCRIPTION:Our 6th Chamber Challenge Trivia Nite will be a lucky night.  Join us for a fun and exciting evening as the Chamber Ambassadors present the sixth annual Chamber Challenge Trivia Nite.  In addition to fascinating trivia questions\, there will be opportunities to participate in interactive games\, a silent auction\, and 50/50 raffle.  We encourage you to decorate your table and dress in costume or your team colors or uniforms.
X-ALT-DESC;FMTTYPE=text/html:Our 6th Chamber Challenge Trivia Nite will be a lucky night.&nbsp\; Join us for a fun and exciting evening as the Chamber Ambassadors present the sixth annual Chamber Challenge Trivia Nite.&nbsp\; In addition to fascinating trivia questions\, there will be opportunities to participate in interactive games\, a silent auction\, and 50/50 raffle.&nbsp\; We encourage you to decorate your table and dress in costume or your team colors or uniforms.
LOCATION:Avanti's Dome 3420 Veterans Dr. Pekin\, Il 61554
UID:e.112.4920
SEQUENCE:3
DTSTAMP:20260422T142725Z
URL:http://www.business.pekinchamber.com/events/details/chamber-challenge-trivia-nite-10-29-2010-4920
END:VEVENT

END:VCALENDAR
