BEGIN:VCALENDAR
VERSION:2.0
PRODID:-//ChamberMaster//Event Calendar 2.0//EN
METHOD:PUBLISH
X-PUBLISHED-TTL:P3D
REFRESH-INTERVAL:P3D
CALSCALE:GREGORIAN
BEGIN:VEVENT
DTSTART:20111028T230000Z
DTEND:20111029T030000Z
X-MICROSOFT-CDO-ALLDAYEVENT:FALSE
SUMMARY:Chamber Challenge Trivia Nite
DESCRIPTION:Download the registration form and information at:\n\n	http://www.pekinchamber.com/2011/ChamberChallengeFlyer.pdf
X-ALT-DESC;FMTTYPE=text/html:<p>\n	Download the registration form and information at:<br />\n	<a href="http://www.pekinchamber.com/2011/ChamberChallengeFlyer.pdf">http://www.pekinchamber.com/2011/ChamberChallengeFlyer.pdf</a><br />\n	&nbsp\;</p>\n
LOCATION:Avanti's Dome
UID:e.112.5360
SEQUENCE:3
DTSTAMP:20260421T195107Z
URL:http://www.business.pekinchamber.com/events/details/chamber-challenge-trivia-nite-10-28-2011-5360
END:VEVENT

END:VCALENDAR
