BEGIN:VCALENDAR
VERSION:2.0
PRODID:-//ChamberMaster//Event Calendar 2.0//EN
METHOD:PUBLISH
X-PUBLISHED-TTL:P3D
REFRESH-INTERVAL:P3D
CALSCALE:GREGORIAN
BEGIN:VEVENT
DTSTART:20081024T230000Z
DTEND:20081025T030000Z
X-MICROSOFT-CDO-ALLDAYEVENT:FALSE
SUMMARY:Chamber Challenge Trivia Nite
DESCRIPTION:Join us for an exciting evening as the Chamber Ambassadors present the third annual Chamber Challenge Trivia Nite. In addition to fascinating trivia questions\, there will be opportunities to participate in interactive games\, a silent auction\, and a 50/50 raffle. We encourage you to decorate your table and dress in costume or your team colors or uniforms.
X-ALT-DESC;FMTTYPE=text/html:<div><font face="Helvetica" size="3"><p align="left">Join us for an exciting evening as the Chamber Ambassadors present the third annual Chamber Challenge Trivia Nite. In addition to fascinating trivia questions\, there will be opportunities to participate in interactive games\, a silent auction\, and a 50/50 raffle.&nbsp\;We encourage you to decorate your table and dress in costume or your team colors or uniforms.</p></font></div>
LOCATION:Dragon's Dome3401 Griffin Ave.
UID:e.112.3212
SEQUENCE:3
DTSTAMP:20260424T024033Z
URL:http://www.business.pekinchamber.com/events/details/chamber-challenge-trivia-nite-10-24-2008-3212
END:VEVENT

END:VCALENDAR
