BEGIN:VCALENDAR
VERSION:2.0
PRODID:-//ChamberMaster//Event Calendar 2.0//EN
METHOD:PUBLISH
X-PUBLISHED-TTL:P3D
REFRESH-INTERVAL:P3D
CALSCALE:GREGORIAN
BEGIN:VEVENT
DTSTART:20070928T230000Z
DTEND:20070929T020000Z
X-MICROSOFT-CDO-ALLDAYEVENT:FALSE
SUMMARY:Chamber Challenge (Trivia Night)
DESCRIPTION:Pekin Area Chamber of Commerce Chamber Challenge (Trivia Night)Join us for an exciting evening as the Chamber Ambassadors present the third annual Chamber Challenge Trivia Nite. In addition to fascinating trivia questions\, there will be opportunities to participate in interactive games\, a silent auction\, and a 50/50 raffle. We encourage you to decorate your table and dress in costume or your team colors or uniforms.
X-ALT-DESC;FMTTYPE=text/html:<p><font size="2">Pekin Area Chamber of Commerce Chamber Challenge (Trivia Night)</font></p><p><font size="2">Join us for an exciting evening as the Chamber Ambassadors present the third annual Chamber Challenge Trivia Nite. In addition to fascinating trivia questions\, there will be opportunities to participate in interactive games\, a silent auction\, and a 50/50 raffle. We encourage you to decorate your table and dress in costume or your team colors or uniforms.</font></p><p>&nbsp\;</p>
LOCATION:Pekin Moose Family Center 2605 Broadway
UID:e.112.2645
SEQUENCE:3
DTSTAMP:20260425T001953Z
URL:http://www.business.pekinchamber.com/events/details/chamber-challenge-trivia-night-09-28-2007-2645
END:VEVENT

END:VCALENDAR
