BEGIN:VCALENDAR
VERSION:2.0
PRODID:-//ChamberMaster//Event Calendar 2.0//EN
METHOD:PUBLISH
X-PUBLISHED-TTL:P3D
REFRESH-INTERVAL:P3D
CALSCALE:GREGORIAN
BEGIN:VEVENT
DTSTART:20110425T213000Z
DTEND:20110426T000000Z
X-MICROSOFT-CDO-ALLDAYEVENT:FALSE
SUMMARY:Chamber Annual Meeting
DESCRIPTION:The Pekin Area Chamber of Commerce - Working Our Magic\n\n\n\nJoin us for the annual meeting of the Pekin Area Chamber of Commerce.  There will be great food and refreshments\, a couple short speeches\, recognition of the outgoing board members\, introduction of the new board members and entertainment by Stephen Bargatze.  He will amaze\, entertain and motivate you with his magic\, illusions and stories.
X-ALT-DESC;FMTTYPE=text/html:The Pekin Area Chamber of Commerce - Working Our Magic<br />\n<br />\nJoin us for the annual meeting of the Pekin Area Chamber of Commerce.&nbsp\; There will be great food and refreshments\, a couple&nbsp\;short speeches\, recognition of the outgoing board members\, introduction of the new board members and entertainment by&nbsp\;Stephen Bargatze.&nbsp\; He will amaze\, entertain and motivate you with his magic\, illusions and stories.<br />\n<br />\n
LOCATION:Pekin Country Club 310 Country Club Drive
UID:e.112.5350
SEQUENCE:3
DTSTAMP:20260422T051831Z
URL:http://www.business.pekinchamber.com/events/details/chamber-annual-meeting-04-25-2011-5350
END:VEVENT

END:VCALENDAR
