BEGIN:VCALENDAR
VERSION:2.0
PRODID:-//ChamberMaster//Event Calendar 2.0//EN
METHOD:PUBLISH
X-PUBLISHED-TTL:P3D
REFRESH-INTERVAL:P3D
CALSCALE:GREGORIAN
BEGIN:VEVENT
DTSTART:20100618T223000Z
DTEND:20100619T013000Z
X-MICROSOFT-CDO-ALLDAYEVENT:FALSE
SUMMARY:Centennial Lawn Social
DESCRIPTION:The Centennial Lawn Social is the Boy Scouts of America\, W. D. Boyce Council's local celebration of their 100th Anniversary. Rich Kriegsman will be honored with the Good Scout Award for his service and continued commitment to the Pekin Area. The event will include a reception\, hor d'oeuvres and program as well as entertainment by the Sally Weisenburg Trio.
X-ALT-DESC;FMTTYPE=text/html:The Centennial Lawn Social is the Boy Scouts of America\, W. D. Boyce Council's local celebration of their 100th Anniversary. Rich Kriegsman will be honored with the Good Scout Award for his service and continued commitment to the Pekin Area. The event will include a reception\, hor d'oeuvres and program as well as entertainment by the Sally Weisenburg Trio.
LOCATION:Pekin Insurance Lodge: 2505 Court St. Pekin\, IL
UID:e.112.4904
SEQUENCE:3
DTSTAMP:20260422T203635Z
URL:http://www.business.pekinchamber.com/events/details/centennial-lawn-social-06-18-2010-4904
END:VEVENT

END:VCALENDAR
