BEGIN:VCALENDAR
VERSION:2.0
PRODID:-//ChamberMaster//Event Calendar 2.0//EN
METHOD:PUBLISH
X-PUBLISHED-TTL:P3D
REFRESH-INTERVAL:P3D
CALSCALE:GREGORIAN
BEGIN:VEVENT
DTSTART:20111020T163000Z
DTEND:20111020T180000Z
X-MICROSOFT-CDO-ALLDAYEVENT:FALSE
SUMMARY:Business & Community Recognition Luncheon
DESCRIPTION:You are invited to the 14th Annual Business and Community Recognition Luncheon on Thursday October 20th from 11:30 am until 1:00 pm at the Pekin Country Club.  The cost of the luncheon is $20.00 per person.  Tables of 8 are $160.00.  Sponsor of this event is Savant Capital Management\, Pekin Trophy House and Gifts will sponsor the awards\, Pekin Hospital will be our dessert sponsor and the Greenhouse Flower Shoppe will be our decorations sponsor.  The speaker will be Dr. Sara Rusch\, Regional Dean of the University of Illinois College of Medicine at Peoria.  Nominate your business or organization for an award - contact the chamber ASAP!
X-ALT-DESC;FMTTYPE=text/html:<div>\n	<span style="font-size: x-small">You are invited to the 14th Annual Business and Community Recognition Luncheon on Thursday October 20th from 11:30 am until 1:00 pm at the Pekin Country Club.&nbsp\; The cost of the luncheon is $20.00 per person.&nbsp\; Tables of 8 are $160.00.&nbsp\; Sponsor of this event is Savant Capital Management\, Pekin Trophy House and Gifts will sponsor the awards\, Pekin Hospital will be&nbsp\;our dessert sponsor&nbsp\;and the Greenhouse Flower Shoppe will be our decorations sponsor.&nbsp\; The speaker will be Dr. Sara Rusch\, Regional Dean of the University of Illinois College of Medicine at Peoria.&nbsp\; Nominate your business or organization for an award - contact the chamber ASAP!&nbsp\;&nbsp\; </span></div>\n
LOCATION:Pekin Country Club310 Country Club Drive
UID:e.112.5384
SEQUENCE:3
DTSTAMP:20260421T195153Z
URL:http://www.business.pekinchamber.com/events/details/business-community-recognition-luncheon-10-20-2011-5384
END:VEVENT

END:VCALENDAR
