BEGIN:VCALENDAR
VERSION:2.0
PRODID:-//ChamberMaster//Event Calendar 2.0//EN
METHOD:PUBLISH
X-PUBLISHED-TTL:P3D
REFRESH-INTERVAL:P3D
CALSCALE:GREGORIAN
BEGIN:VEVENT
DTSTART:20091008T163000Z
DTEND:20091008T180000Z
X-MICROSOFT-CDO-ALLDAYEVENT:FALSE
SUMMARY:Business & Community Recognition Luncheon
DESCRIPTION:You are invited to the 12th Annual Business and Community Recognition Luncheon on Thursday\, October 8th from 11:30 am to 1:00 pm at the Pekin Country Club. The cost of the luncheon is $20.00 per person. Tables of 8 are $160.00. Once again\, CenturyTel will be the sponsor of the event\, and Pekin Trophy House and Engraved Gifts will sponsor the awards. Our keynote speaker will be Joanne K. Glasser\, the tenth president of Bradley University\, and the school's first female president.  Chamber businesses and organizations with significant achievements in the past year will be recognized at the luncheon. Categories of accomplishments include expansion or remodeling\, new business or building\, additional employees\, major retraining effort\, new technology or major equipment investment\, other business improvements and community involvement. If you have not yet nominated your business or organization   there is still time. Contact the Chamber right away for a self-nomination form!
X-ALT-DESC;FMTTYPE=text/html:<div><div style="margin: 0in 0in 0pt"><span style="font-size: small">You are&nbsp\;invited to the 12<sup>th</sup> Annual Business and Community Recognition Luncheon on Thursday\, October 8<sup>th</sup> from 11:30 am to 1:00 pm at the Pekin Country Club.&nbsp\;The cost of the luncheon is $20.00 per person.&nbsp\;Tables of 8 are $160.00.&nbsp\;Once again\, CenturyTel will be the sponsor of the event\, and Pekin Trophy House and Engraved Gifts will sponsor the awards.</span></div><div style="margin: 0in 0in 0pt"><span style="font-size: small">&nbsp\;</span></div><div style="margin: 0in 0in 0pt"><span style="font-size: small">Our keynote speaker will be Joanne K. Glasser\, the tenth president of Bradley University\, and the school&rsquo\;s first female president.&nbsp\;</span></div><div style="margin: 0in 0in 0pt"><span style="font-size: small">&nbsp\;</span></div><div style="margin: 0in 0in 0pt"><span style="font-size: small">Chamber businesses and organizations with significant achievements in the past year will be recognized at the luncheon.&nbsp\;Categories of accomplishments include expansion or remodeling\, new business or building\, additional employees\, major retraining effort\, new technology or major equipment investment\, other business improvements and community involvement.&nbsp\;If you have not yet nominated your business or organization &ndash\; there is still time.&nbsp\;Contact the Chamber right away for a self-nomination form!</span></div></div>
LOCATION:Pekin Country Club310 Country Club Drive
UID:e.112.3724
SEQUENCE:3
DTSTAMP:20260423T083636Z
URL:http://www.business.pekinchamber.com/events/details/business-community-recognition-luncheon-10-08-2009-3724
END:VEVENT

END:VCALENDAR
