BEGIN:VCALENDAR
VERSION:2.0
PRODID:-//ChamberMaster//Event Calendar 2.0//EN
METHOD:PUBLISH
X-PUBLISHED-TTL:P3D
REFRESH-INTERVAL:P3D
CALSCALE:GREGORIAN
BEGIN:VEVENT
DTSTART:20081022T163000Z
DTEND:20081022T180000Z
X-MICROSOFT-CDO-ALLDAYEVENT:FALSE
SUMMARY:Business And Community Recognition Luncheon
DESCRIPTION:Join us for the 11th Annual Business and Community Recognition Luncheon on Wednesday\, October 22nd from 11:30 am to 1:00 pm at the Pekin Country Club.  The cost of the luncheon is $20.00 per person. Tables of 8 are $160.00.  CenturyTel is the sponsor of the event.\n\n \n\nOur keynote speaker will be Mary Ardapple\, owner of Apple's Bakery in Peoria.  Originating in 1989 as part of the thriving O'Leary's Restaurant\, Apple's Bakery has carved out a niche as Peoria's gateway to midwestern hospitality. With the best customer service and quality products around\, Apple's Bakery relocated in 1998 to their current Peoria location at 8412 North Knoxville Avenue. \n\n \n\nChamber businesses and organizations with significant achievements in the past year will be recognized at the luncheon. Categories of accomplishments include expansion or remodeling\, new business or building\, additional employees\, major retraining effort\, new technology or major equipment investment\, other business improvements and community involvement. If you have not yet nominated your business or organization   there is still time. Contact the Chamber right away for a self-nomination form!\n\n \n\nSeating will be limited\, so please reserve your seats by Friday\, October 10th.
X-ALT-DESC;FMTTYPE=text/html:<div>\n<div style="margin: 0in 0in 0pt">Join us for&nbsp\;the 11<sup>th</sup> Annual Business and Community Recognition Luncheon on Wednesday\, October 22<sup>nd</sup> from 11:30 am to 1:00 pm at the Pekin Country Club.&nbsp\; The cost of the luncheon is $20.00 per person.&nbsp\;Tables of 8 are $160.00.&nbsp\; CenturyTel is the sponsor of the event.</div>\n\n<div style="margin: 0in 0in 0pt">&nbsp\;</div>\n\n<div style="margin: 0in 0in 0pt">Our keynote speaker will be Mary Ardapple\, owner of Apple&rsquo\;s Bakery in Peoria.&nbsp\; Originating in 1989 as part of the thriving O&#39\;Leary&#39\;s Restaurant\, Apple&#39\;s Bakery has carved out a niche as Peoria&#39\;s gateway to midwestern hospitality.&nbsp\;With the best customer service and quality products around\, Apple&#39\;s Bakery relocated in 1998 to their current Peoria location at 8412 North Knoxville Avenue.&nbsp\;</div>\n\n<div style="margin: 0in 0in 0pt">&nbsp\;</div>\n\n<div style="margin: 0in 0in 0pt">Chamber businesses and organizations with significant achievements in the past year will be recognized at the luncheon.&nbsp\;Categories of accomplishments include expansion or remodeling\, new business or building\, additional employees\, major retraining effort\, new technology or major equipment investment\, other business improvements and community involvement.&nbsp\;If you have not yet nominated your business or organization &ndash\; there is still time.&nbsp\;Contact the Chamber right away for a self-nomination form!</div>\n\n<div style="margin: 0in 0in 0pt\; text-indent: 0.5in">&nbsp\;</div>\n\n<div style="margin: 0in 0in 0pt">Seating will be limited\, so please reserve your seats by Friday\, October 10<sup>th</sup>.&nbsp\;</div>\n</div>\n
LOCATION:Pekin Country Club 310 Country Club Drive Pekin\, IL 61554
UID:e.112.3211
SEQUENCE:3
DTSTAMP:20260424T024039Z
URL:http://www.business.pekinchamber.com/events/details/business-and-community-recognition-luncheon-10-22-2008-3211
END:VEVENT

END:VCALENDAR
