BEGIN:VCALENDAR
VERSION:2.0
PRODID:-//ChamberMaster//Event Calendar 2.0//EN
METHOD:PUBLISH
X-PUBLISHED-TTL:P3D
REFRESH-INTERVAL:P3D
CALSCALE:GREGORIAN
BEGIN:VEVENT
DTSTART:20071206T223000Z
DTEND:20071207T000000Z
X-MICROSOFT-CDO-ALLDAYEVENT:FALSE
SUMMARY:Business AFTER Hours
DESCRIPTION:Don't miss this opportunity to network with your fellow chamber members and community leaders.  You'll also enjoy refreshments\, door prizes and tours or information from our hosts.
X-ALT-DESC;FMTTYPE=text/html:Don't miss this opportunity to network with your fellow chamber members and community leaders.  You'll also enjoy refreshments\, door prizes and tours or information from our hosts.
LOCATION:Timbercreek Rehab & Healthcare 2220 State Street
UID:e.112.51
SEQUENCE:3
DTSTAMP:20260424T193533Z
URL:http://www.business.pekinchamber.com/events/details/business-after-hours-12-06-2007-51
END:VEVENT

END:VCALENDAR
