BEGIN:VCALENDAR
VERSION:2.0
PRODID:-//ChamberMaster//Event Calendar 2.0//EN
METHOD:PUBLISH
X-PUBLISHED-TTL:P3D
REFRESH-INTERVAL:P3D
CALSCALE:GREGORIAN
BEGIN:VEVENT
DTSTART:20091203T223000Z
DTEND:20091204T000000Z
X-MICROSOFT-CDO-ALLDAYEVENT:FALSE
SUMMARY:Business After Hours
DESCRIPTION:Don't miss this opportunity to network with fellow chamber members and community leaders. You'll also enjoy refreshments\, door prizes and tours or information from our hosts.
X-ALT-DESC;FMTTYPE=text/html:<div>Don&rsquo\;t miss this opportunity to network with fellow chamber members and community leaders. You&rsquo\;ll also enjoy refreshments\, door prizes and tours or information from our hosts.</div>
LOCATION:Sprint / Wireless Express3436 Court St.Pekin\, IL 61554
UID:e.112.3674
SEQUENCE:3
DTSTAMP:20260423T054122Z
URL:http://www.business.pekinchamber.com/events/details/business-after-hours-12-03-2009-3674
END:VEVENT

END:VCALENDAR
