BEGIN:VCALENDAR
VERSION:2.0
PRODID:-//ChamberMaster//Event Calendar 2.0//EN
METHOD:PUBLISH
X-PUBLISHED-TTL:P3D
REFRESH-INTERVAL:P3D
CALSCALE:GREGORIAN
BEGIN:VEVENT
DTSTART:20081106T223000Z
DTEND:20081107T000000Z
X-MICROSOFT-CDO-ALLDAYEVENT:FALSE
SUMMARY:Business After Hours
DESCRIPTION:Don't miss this opportunity to network with fellow chamber members and community leaders.  You'll also enjoy refreshments\, doorprizes and tours or information from our hosts.
X-ALT-DESC;FMTTYPE=text/html:<div>Don't miss this opportunity to network with fellow chamber members and community leaders.&nbsp\; You'll also enjoy refreshments\, doorprizes and tours or information from our hosts.</div>
LOCATION:Sprint / Wireless Express3436 Court St.Pekin\, IL
UID:e.112.3086
SEQUENCE:3
DTSTAMP:20260424T010912Z
URL:http://www.business.pekinchamber.com/events/details/business-after-hours-11-06-2008-3086
END:VEVENT

END:VCALENDAR
