BEGIN:VCALENDAR
VERSION:2.0
PRODID:-//ChamberMaster//Event Calendar 2.0//EN
METHOD:PUBLISH
X-PUBLISHED-TTL:P3D
REFRESH-INTERVAL:P3D
CALSCALE:GREGORIAN
BEGIN:VEVENT
DTSTART:20091105T223000Z
DTEND:20091106T000000Z
X-MICROSOFT-CDO-ALLDAYEVENT:FALSE
SUMMARY:Business After Hours
DESCRIPTION:Don't miss this opportunity to network with fellow chamber members and community leaders. You'll also enjoy refreshments\, door prizes and tours or information from our hosts.
X-ALT-DESC;FMTTYPE=text/html:<div>Don't miss this opportunity to network with fellow chamber members and community leaders. You'll also enjoy refreshments\, door prizes and tours or information from our hosts.</div>
LOCATION:Timbercreek Rehab & Health Care2220 State St
UID:e.112.3673
SEQUENCE:3
DTSTAMP:20260423T070722Z
URL:http://www.business.pekinchamber.com/events/details/business-after-hours-11-05-2009-3673
END:VEVENT

END:VCALENDAR
