BEGIN:VCALENDAR
VERSION:2.0
PRODID:-//ChamberMaster//Event Calendar 2.0//EN
METHOD:PUBLISH
X-PUBLISHED-TTL:P3D
REFRESH-INTERVAL:P3D
CALSCALE:GREGORIAN
BEGIN:VEVENT
DTSTART:20080911T213000Z
DTEND:20080911T230000Z
X-MICROSOFT-CDO-ALLDAYEVENT:FALSE
SUMMARY:Business After Hours
DESCRIPTION:Don't miss this opportunity to network with fellow chamber members and community leaders.  You'll also enjoy refreshments\, door prizes and tours or informations from our hosts.
X-ALT-DESC;FMTTYPE=text/html:<div>Don't miss this opportunity to network with fellow chamber members and community leaders.&nbsp\; You'll also enjoy refreshments\, door prizes and tours or informations from our hosts.</div>
LOCATION:Goodwill Industries3214 Veterans Dr.Pekin\, IL
UID:e.112.3214
SEQUENCE:3
DTSTAMP:20260424T034742Z
URL:http://www.business.pekinchamber.com/events/details/business-after-hours-09-11-2008-3214
END:VEVENT

END:VCALENDAR
