BEGIN:VCALENDAR
VERSION:2.0
PRODID:-//ChamberMaster//Event Calendar 2.0//EN
METHOD:PUBLISH
X-PUBLISHED-TTL:P3D
REFRESH-INTERVAL:P3D
CALSCALE:GREGORIAN
BEGIN:VEVENT
DTSTART:20080807T213000Z
DTEND:20080807T230000Z
X-MICROSOFT-CDO-ALLDAYEVENT:FALSE
SUMMARY:Business After Hours
DESCRIPTION:Don't miss this opportunity to network with you fellow chamber members and community leaders.  You'll also enjoy refreshments\, door prizes and tours or information from our hosts.
X-ALT-DESC;FMTTYPE=text/html:<div>Don't miss this opportunity to network with you fellow chamber members and community leaders.&nbsp\; You'll also enjoy refreshments\, door prizes and tours or information from our hosts.</div>
LOCATION:Pekin Hospital600 S. 13th St.Pekin\, IL
UID:e.112.3084
SEQUENCE:3
DTSTAMP:20260424T051030Z
URL:http://www.business.pekinchamber.com/events/details/business-after-hours-08-07-2008-3084
END:VEVENT

END:VCALENDAR
