BEGIN:VCALENDAR
VERSION:2.0
PRODID:-//ChamberMaster//Event Calendar 2.0//EN
METHOD:PUBLISH
X-PUBLISHED-TTL:P3D
REFRESH-INTERVAL:P3D
CALSCALE:GREGORIAN
BEGIN:VEVENT
DTSTART:20080710T213000Z
DTEND:20080710T230000Z
X-MICROSOFT-CDO-ALLDAYEVENT:FALSE
SUMMARY:Business After Hours
DESCRIPTION:Don't miss this opportunity to network with your fellow chamber members and community leaders.  You'll also enjoy refreshments\, door prizes and tours or information from our hosts.
X-ALT-DESC;FMTTYPE=text/html:<div>Don't miss this opportunity to network with your fellow chamber members and community leaders.&nbsp\; You'll also enjoy refreshments\, door prizes and tours or information from our hosts.</div>
LOCATION:American Tan - n - Spa302 Broadway Rd.Pekin\, IL
UID:e.112.3083
SEQUENCE:3
DTSTAMP:20260424T063535Z
URL:http://www.business.pekinchamber.com/events/details/business-after-hours-07-10-2008-3083
END:VEVENT

END:VCALENDAR
