BEGIN:VCALENDAR
VERSION:2.0
PRODID:-//ChamberMaster//Event Calendar 2.0//EN
METHOD:PUBLISH
X-PUBLISHED-TTL:P3D
REFRESH-INTERVAL:P3D
CALSCALE:GREGORIAN
BEGIN:VEVENT
DTSTART:20100701T213000Z
DTEND:20100701T230000Z
X-MICROSOFT-CDO-ALLDAYEVENT:FALSE
SUMMARY:Business After Hours
DESCRIPTION:Don't miss this opportunity to network with fellow chamber members and community leaders.  You'll also enjoy refreshments\, door prizes and tours or information from our hosts.
X-ALT-DESC;FMTTYPE=text/html:<div><div>Don't miss this opportunity to network with fellow chamber members and community leaders.&nbsp\; You'll also enjoy refreshments\, door prizes and tours or information from our hosts.</div></div>
LOCATION:University of Illinois Extension-Tazewell County1505 Valle VistaPekin\, IL 61554
UID:e.112.4687
SEQUENCE:3
DTSTAMP:20260422T185610Z
URL:http://www.business.pekinchamber.com/events/details/business-after-hours-07-01-2010-4687
END:VEVENT

END:VCALENDAR
