BEGIN:VCALENDAR
VERSION:2.0
PRODID:-//ChamberMaster//Event Calendar 2.0//EN
METHOD:PUBLISH
X-PUBLISHED-TTL:P3D
REFRESH-INTERVAL:P3D
CALSCALE:GREGORIAN
BEGIN:VEVENT
DTSTART:20090514T213000Z
DTEND:20090514T230000Z
X-MICROSOFT-CDO-ALLDAYEVENT:FALSE
SUMMARY:Business After Hours
DESCRIPTION:Don't miss this opportunity to network with fellow chamber members and community leaders.  You'll also enjoy refresments\, door prizes and tours or information from our hosts.  Leman Property Management - Hickory Hills Subdivision Look for the tent in the Hickory Hills subdivision off Broadway.  Turn into the subdvision on Hickory Lane (next to the Social Security office).  Go back to Black Oak Drive\, and turn left to Dogwood.  Turn right on Dogwood and look for the tent.
X-ALT-DESC;FMTTYPE=text/html:<div><font size="2">Don&rsquo\;t miss this opportunity to network with fellow chamber members and community leaders.&nbsp\; You&rsquo\;ll also enjoy refresments\, door prizes and tours or information from our hosts.</font><div>&nbsp\;</div><div>&nbsp\;</div><div><font size="2">Leman Property Management - Hickory Hills Subdivision</font></div><div><font size="2">&nbsp\;</font></div><div><font size="2">Look for the tent in the Hickory Hills subdivision off Broadway.&nbsp\; Turn into the subdvision on Hickory Lane (next to the Social Security office).&nbsp\; Go back to Black Oak Drive\, and turn left to Dogwood.&nbsp\; Turn right on Dogwood and look for the tent.</font></div></div>
LOCATION:Leman Property Management - Hickory Hills Subdivision Look for the tent in the Hickory Hills subdivision off Broadway. Turn into the subdvision on Hickory Lane (next to the Social Security office). Go back to Black Oak Drive\, and turn left to Dogwood. Turn right on Dogwood and look for the tent.
UID:e.112.3228
SEQUENCE:3
DTSTAMP:20260423T155807Z
URL:http://www.business.pekinchamber.com/events/details/business-after-hours-05-14-2009-3228
END:VEVENT

END:VCALENDAR
