BEGIN:VCALENDAR
VERSION:2.0
PRODID:-//ChamberMaster//Event Calendar 2.0//EN
METHOD:PUBLISH
X-PUBLISHED-TTL:P3D
REFRESH-INTERVAL:P3D
CALSCALE:GREGORIAN
BEGIN:VEVENT
DTSTART:20120503T213000Z
DTEND:20120503T213000Z
X-MICROSOFT-CDO-ALLDAYEVENT:FALSE
SUMMARY:Business After Hours
DESCRIPTION:Don't miss this opportunity to network with fellow chamber members and community leaders.  You'll also enjoy refreshments\, door prizes and tours or information from our hosts
X-ALT-DESC;FMTTYPE=text/html:Don&#39\;t miss this opportunity to network with fellow chamber members and community leaders.&nbsp\; You&#39\;ll also enjoy refreshments\, door prizes and tours or information from our hosts
LOCATION:McDaniels Marketing Communications #11 Olt Ave. Pekin\, IL
UID:e.112.4952
SEQUENCE:3
DTSTAMP:20260421T091408Z
URL:http://www.business.pekinchamber.com/events/details/business-after-hours-05-03-2012-4952
END:VEVENT

END:VCALENDAR
