BEGIN:VCALENDAR
VERSION:2.0
PRODID:-//ChamberMaster//Event Calendar 2.0//EN
METHOD:PUBLISH
X-PUBLISHED-TTL:P3D
REFRESH-INTERVAL:P3D
CALSCALE:GREGORIAN
BEGIN:VEVENT
DTSTART:20110407T213000Z
DTEND:20110407T230000Z
X-MICROSOFT-CDO-ALLDAYEVENT:FALSE
SUMMARY:Business After Hours
DESCRIPTION:Don't miss this opportunity to network with fellow chamber members and communiy leaders.  You'll also enjoy refreshments\, door prizes and tours or information from our hosts
X-ALT-DESC;FMTTYPE=text/html:Don&#39\;t miss this opportunity to network with fellow chamber members and communiy leaders.&nbsp\; You&#39\;ll also enjoy refreshments\, door prizes and tours or information from our hosts
LOCATION:Allen & Associates is hosting the event at one of their new construction homes in Deerfield Estates. It's at 1708 Whitetail. Go South on Fifth Street\, left on Deerfield\, and right on Whitetail.
UID:e.112.4939
SEQUENCE:3
DTSTAMP:20260422T051810Z
URL:http://www.business.pekinchamber.com/events/details/business-after-hours-04-07-2011-4939
END:VEVENT

END:VCALENDAR
