BEGIN:VCALENDAR
VERSION:2.0
PRODID:-//ChamberMaster//Event Calendar 2.0//EN
METHOD:PUBLISH
X-PUBLISHED-TTL:P3D
REFRESH-INTERVAL:P3D
CALSCALE:GREGORIAN
BEGIN:VEVENT
DTSTART:20120405T213000Z
DTEND:20120405T230000Z
X-MICROSOFT-CDO-ALLDAYEVENT:FALSE
SUMMARY:Business After Hours
DESCRIPTION:Don't miss this opportunity to network with fellow chamber members and communiy leaders.  You'll also enjoy refreshments\, door prizes and tours or information from our hosts.  This month's event is co-hosted by the Speakeasy Art Center\, Home Health Care Plus\, and Harbor Light Hospice.
X-ALT-DESC;FMTTYPE=text/html:Don&#39\;t miss this opportunity to network with fellow chamber members and communiy leaders.&nbsp\; You&#39\;ll also enjoy refreshments\, door prizes and tours or information from our hosts.&nbsp\; This month&#39\;s event is co-hosted by the Speakeasy Art Center\, Home Health Care Plus\, and Harbor Light Hospice.
LOCATION:Speakeasy Art Center 353 Court St. Pekin\, IL
UID:e.112.4951
SEQUENCE:3
DTSTAMP:20260421T103537Z
URL:http://www.business.pekinchamber.com/events/details/business-after-hours-04-05-2012-4951
END:VEVENT

END:VCALENDAR
