BEGIN:VCALENDAR
VERSION:2.0
PRODID:-//ChamberMaster//Event Calendar 2.0//EN
METHOD:PUBLISH
X-PUBLISHED-TTL:P3D
REFRESH-INTERVAL:P3D
CALSCALE:GREGORIAN
BEGIN:VEVENT
DTSTART:20090129T230000Z
DTEND:20090130T020000Z
X-MICROSOFT-CDO-ALLDAYEVENT:FALSE
SUMMARY:Business After Hours
DESCRIPTION:Join us for a special Business After Hours hosted by the four Tazewell County Chambers of Commerce from East Peoria\, Morton\, Pekin and Washington\, and sponsored by Pekin Community Bank and Embassy Suites.
X-ALT-DESC;FMTTYPE=text/html:<div>Join us for a special Business After Hours hosted by the four Tazewell County Chambers of Commerce from East Peoria\, Morton\, Pekin and Washington\, and sponsored by Pekin Community Bank and Embassy Suites.</div>
LOCATION:Embassy Suites in East Peoria
UID:e.112.3370
SEQUENCE:3
DTSTAMP:20260423T215807Z
URL:http://www.business.pekinchamber.com/events/details/business-after-hours-01-29-2009-3370
END:VEVENT

END:VCALENDAR
