BEGIN:VCALENDAR
VERSION:2.0
PRODID:-//ChamberMaster//Event Calendar 2.0//EN
METHOD:PUBLISH
X-PUBLISHED-TTL:P3D
REFRESH-INTERVAL:P3D
CALSCALE:GREGORIAN
BEGIN:VEVENT
DTSTART:20110127T230000Z
DTEND:20110128T010000Z
X-MICROSOFT-CDO-ALLDAYEVENT:FALSE
SUMMARY:Business After Hours
DESCRIPTION:Join us at the Embassy Suites in East Peoria for a countywide Buisness After Hours hosted by Fondulac Banking Center of East Peoria.  Members from Chambers of Commerce in East Peoria\, Morton\, Washington and Pekin are invited.
X-ALT-DESC;FMTTYPE=text/html:Join us at the Embassy Suites in East Peoria for a countywide Buisness After Hours hosted by Fondulac Banking Center of East Peoria.&nbsp\;&nbsp\;Members from Chambers of Commerce in East Peoria\, Morton\, Washington and Pekin are invited.
LOCATION:Embassy Suites East Peoria
UID:e.112.5308
SEQUENCE:3
DTSTAMP:20260424T105828Z
URL:http://www.business.pekinchamber.com/events/details/business-after-hours-01-27-2011-5308
END:VEVENT

END:VCALENDAR
