BEGIN:VCALENDAR
VERSION:2.0
PRODID:-//ChamberMaster//Event Calendar 2.0//EN
METHOD:PUBLISH
X-PUBLISHED-TTL:P3D
REFRESH-INTERVAL:P3D
CALSCALE:GREGORIAN
BEGIN:VEVENT
DTSTART:20100129T130000Z
DTEND:20100129T143000Z
X-MICROSOFT-CDO-ALLDAYEVENT:FALSE
SUMMARY:Breakfast 2.0: Tips\, Tricks and Info on Search Engines
DESCRIPTION:You'll Learn:* what the best search engines are for your business*how to search more effectively for prospects or clients*better ways to search out info on a idea you havefor starting a new business or product*find out how to save $$ on lists for your next fundraiser. and much more!
X-ALT-DESC;FMTTYPE=text/html:<div><p style="text-align: center"><span style="font-size: small"><span style="color: #000000"><span style="font-family: Arial">You&rsquo\;ll Learn:</span></span></span></p><p style="text-align: center"><span style="font-size: small"><span style="color: #000000"><span style="font-family: Arial">* what the best search engines are for your business</span></span></span></p><p style="text-align: center"><span style="font-size: small"><span style="color: #000000"><span style="font-family: Arial">*how to search more effectively for prospects or clients</span></span></span></p><p style="text-align: center"><span style="font-size: small"><span style="color: #000000"><span style="font-family: Arial">*better ways to search out info on a idea you have</span></span></span></p><p style="text-align: center"><span style="font-size: small"><span style="color: #000000"><span style="font-family: Arial">for starting a new business or product</span></span></span></p><p style="text-align: center"><span style="font-size: small"><span style="color: #000000"><span style="font-family: Arial">*find out how to save $$ on lists for your next&nbsp\;fundraiser.</span></span></span></p><p style="text-align: center"><span style="font-size: small"><span style="color: #000000"><span style="font-family: Arial">&hellip\;and much more!</span></span></span></p></div>
LOCATION:Pekin Public Library4th and Broadway
UID:e.112.4723
SEQUENCE:3
DTSTAMP:20260423T040708Z
URL:http://www.business.pekinchamber.com/events/details/breakfast-2-0-tips-tricks-and-info-on-search-engines-01-29-2010-4723
END:VEVENT

END:VCALENDAR
