BEGIN:VCALENDAR
VERSION:2.0
PRODID:-//ChamberMaster//Event Calendar 2.0//EN
METHOD:PUBLISH
X-PUBLISHED-TTL:P3D
REFRESH-INTERVAL:P3D
CALSCALE:GREGORIAN
BEGIN:VEVENT
DTSTART:20110412T123000Z
DTEND:20110412T140000Z
X-MICROSOFT-CDO-ALLDAYEVENT:FALSE
SUMMARY:Breakfast 2.0: Personal Productivity / Time Management
DESCRIPTION:Employees often report their inability to manage their time is the biggest problem they face professionally. Time management is a skill few people master\, but it is one that most people need. We live in a world of competing priorities\, customers\, supervisors\, supervisees and organizational goals. Since we often cannot control these priorities we must learn the skills necessary to self-manage. \n\n	 \n\n	To provide participants with skills necessary to manage themselves and their time\; participants will:\n\n	  Gain insight into their ineffective and sabotaging behaviors\n\n	  Identify techniques that can be used to manage their interactions\n\n	  Develop a plan to improve self-management \n\n	 \nThe presenter will be Marvis Meyers with AAIM Employers Association in St. Louis.  Meyers manages the customized\, on-site training programs and Organization Development consulting.  Prior to joining AAIM EA\, Meyers was the Manager of Training and Organization Development at Covidien\, where she managed the managerial training function for all Tyco Healthcare.  She was also the head of Branch Training for Edward Jones\, and has been an Executive Coach and Personal Productivity Coach for seven years
X-ALT-DESC;FMTTYPE=text/html:<div>\n	<span style="font-family: arial"><span style="font-family: arial\, helvetica\, sans-serif">Employees often report their inability to manage their time is the biggest problem they face professionally. Time management is a skill few people master\, but it is one that most people need. We live in a world of competing priorities\, customers\, supervisors\, supervisees and organizational goals. Since we often cannot control these priorities we must learn the skills necessary to self-manage. </span></span></div>\n<div>\n	&nbsp\;</div>\n<div>\n	<span style="font-family: arial"><span style="font-family: arial\, helvetica\, sans-serif">To provide participants with skills necessary to manage themselves and their time\; participants will:</span></span><br />\n	<span style="font-family: arial\, helvetica\, sans-serif"><span style="font-family: symbol">&middot\; </span></span><span style="font-family: arial">Gain insight into their ineffective and sabotaging behaviors</span><br />\n	<span style="font-family: arial\, helvetica\, sans-serif"><span style="font-family: symbol">&middot\; I</span></span><span style="font-family: arial">dentify techniques that can be used to manage their interactions</span><br />\n	<span style="font-family: arial\, helvetica\, sans-serif"><span style="font-family: symbol">&middot\; </span></span><span style="font-family: arial">Develop a plan to improve self-management </span></div>\n<div>\n	&nbsp\;</div>\n<span style="font-family: arial"><span style="font-family: arial\, helvetica\, sans-serif">The presenter will be Marvis Meyers with AAIM Employers Association in St. Louis.&nbsp\; Meyers manages the customized\, on-site training programs and Organization Development consulting.&nbsp\; Prior to joining AAIM EA\, Meyers was the Manager of Training and Organization Development at Covidien\, where she managed the managerial training function for all Tyco Healthcare.&nbsp\; She was also the head of Branch Training for Edward Jones\, and has been an Executive Coach and Personal Productivity Coach for seven years&nbsp\;</span></span>
LOCATION:Avanti's Dome Events & Sports Center of Pekin 3401 Griffin Avenue
UID:e.112.5353
SEQUENCE:3
DTSTAMP:20260422T051837Z
URL:http://www.business.pekinchamber.com/events/details/breakfast-2-0-personal-productivity-time-management-04-12-2011-5353
END:VEVENT

END:VCALENDAR
