BEGIN:VCALENDAR
VERSION:2.0
PRODID:-//ChamberMaster//Event Calendar 2.0//EN
METHOD:PUBLISH
X-PUBLISHED-TTL:P3D
REFRESH-INTERVAL:P3D
CALSCALE:GREGORIAN
BEGIN:VEVENT
DTSTART:20110614T123000Z
DTEND:20110614T140000Z
X-MICROSOFT-CDO-ALLDAYEVENT:FALSE
SUMMARY:Breakfast 2.0: Hiring and Retaining the Right Employees
DESCRIPTION:Learn the secrets to hiring and keeping the RIGHT employees from Rob Burns with the Employers Association / AAIM.
X-ALT-DESC;FMTTYPE=text/html:Learn the secrets to hiring and keeping the RIGHT employees from Rob Burns with the Employers Association / AAIM.
LOCATION:Avaqnti's Dome
UID:e.112.5366
SEQUENCE:3
DTSTAMP:20260422T020535Z
URL:http://www.business.pekinchamber.com/events/details/breakfast-2-0-hiring-and-retaining-the-right-employees-06-14-2011-5366
END:VEVENT

END:VCALENDAR
