BEGIN:VCALENDAR
VERSION:2.0
PRODID:-//ChamberMaster//Event Calendar 2.0//EN
METHOD:PUBLISH
X-PUBLISHED-TTL:P3D
REFRESH-INTERVAL:P3D
CALSCALE:GREGORIAN
BEGIN:VEVENT
DTSTART;VALUE=DATE:20100521
DTEND;VALUE=DATE:20100522
TRANSP:TRANSPARENT
X-MICROSOFT-CDO-ALLDAYEVENT:TRUE
SUMMARY:Breakfast 2.0: Build Your Own Low-Cost Website
DESCRIPTION:Learn how to build a low-cost/free webistie for your business.  We will go through the steps and create a web presence for a business during the session.  Hosted by the Mermber Services committee of the Pekin Area Chamber of Commerce.
X-ALT-DESC;FMTTYPE=text/html:<div>Learn how to&nbsp\;build a low-cost/free webistie for your business.&nbsp\; We will&nbsp\;go through the steps and create a web presence for a business&nbsp\;during the session.&nbsp\; Hosted by the Mermber Services committee of the Pekin Area Chamber of Commerce.</div>
LOCATION:Pekin Public LibraryCommunity Room
UID:e.112.4870
SEQUENCE:3
DTSTAMP:20260422T222617Z
URL:http://www.business.pekinchamber.com/events/details/breakfast-2-0-build-your-own-low-cost-website-05-21-2010-4870
END:VEVENT

END:VCALENDAR
