BEGIN:VCALENDAR
VERSION:2.0
PRODID:-//ChamberMaster//Event Calendar 2.0//EN
METHOD:PUBLISH
X-PUBLISHED-TTL:P3D
REFRESH-INTERVAL:P3D
CALSCALE:GREGORIAN
BEGIN:VEVENT
DTSTART:20101219T030000Z
DTEND:20101219T070000Z
X-MICROSOFT-CDO-ALLDAYEVENT:FALSE
SUMMARY:Brainchild Playing at Paddy O'Flaherty's
DESCRIPTION:Brainchild playing at Paddy O'Flaherty's from 9pm-1am!\n\n\n\nNO COVER CHARGE!\n\n\n\nDRINK SPECIALS!
X-ALT-DESC;FMTTYPE=text/html:Brainchild playing at Paddy O'Flaherty's from 9pm-1am!\n<br>\n<br>NO COVER CHARGE!\n<br>\n<br>DRINK SPECIALS!
LOCATION:201 E. Ashland Ave.
UID:e.112.5304
SEQUENCE:3
DTSTAMP:20260422T113034Z
URL:http://www.business.pekinchamber.com/events/details/brainchild-playing-at-paddy-o-flaherty-s-12-18-2010-5304
END:VEVENT

END:VCALENDAR
