BEGIN:VCALENDAR
VERSION:2.0
PRODID:-//ChamberMaster//Event Calendar 2.0//EN
METHOD:PUBLISH
X-PUBLISHED-TTL:P3D
REFRESH-INTERVAL:P3D
CALSCALE:GREGORIAN
BEGIN:VEVENT
DTSTART;VALUE=DATE:20080830
DTEND;VALUE=DATE:20080831
TRANSP:TRANSPARENT
X-MICROSOFT-CDO-ALLDAYEVENT:TRUE
SUMMARY:Brad Campbell Memorial Tourney
DESCRIPTION:The 13th Annual Brad Campbell Memorial Golf Tournament is now accepting team registrations. The tournament is August 30th with a double shotgun. start begging at 7am & 1pm. The cost is $280/team\, which includes tournament entry\, greens fees\, cart\, lunch & dinner. The format is a 4 person scramble\, which will be held at Sunset Hills Golf Course.\n\nA maximum of 36 teams will be accepted for each shotgun session. Teams will be assigned on a first come first choice basis. Lunch will be served from 11:30am to 1pm for both sessions at the golf course. Dinner will be at the Pekin Moose Lodge Family Center at approximately 6:30pm. Complimentary beer & soft drinks. (cash bar available)\n\nPrizes: A chance to win $10\,000 cash! Golf for 4 at Weaver Ridge. Door prizes. Flight Prizes. Hole Prizes. Cash Prizes. Color TV\n\nProceeds to benefit: Pekin Boys and Girls Club\, Pekin Shade Park\, Pekin Hospital Pediatric Unit\, and Pekin Township's Spirit of Christmas Program for needy children.\n\nAll teams must be paid in full to reserve your spot. All additional dinner reservations are $20.00 and must be received by August 27th. No dinner reservations can be accepted at the door.\n\nRegister online at www.bradcampbellmemorial.org
X-ALT-DESC;FMTTYPE=text/html:<p>The 13th Annual Brad Campbell Memorial Golf Tournament is now accepting team registrations. The tournament is August 30th with a double shotgun. start begging at 7am &amp\; 1pm. The cost is $280/team\, which includes tournament entry\, greens fees\, cart\, lunch &amp\; dinner. The format is a 4 person scramble\, which will be held at Sunset Hills Golf Course.<br /><br />A maximum of 36 teams will be accepted for each shotgun session. Teams will be assigned on a first come first choice basis. Lunch will be served from 11:30am to 1pm for both sessions at the golf course. Dinner will be at the Pekin Moose Lodge Family Center at approximately 6:30pm. Complimentary beer &amp\; soft drinks. (cash bar available)<br /><br />Prizes: A chance to win $10\,000 cash! Golf for 4 at Weaver Ridge. Door prizes. Flight Prizes. Hole Prizes. Cash Prizes. Color TV<br /><br />Proceeds to benefit: Pekin Boys and Girls Club\, Pekin Shade Park\, Pekin Hospital Pediatric Unit\, and Pekin Township&rsquo\;s Spirit of Christmas Program for needy children.<br /><br />All teams must be paid in full to reserve your spot. All additional dinner reservations are $20.00 and must be received by August 27th. No dinner reservations can be accepted at the door.<br /><br />Register online at www.bradcampbellmemorial.org&nbsp\;</p>
LOCATION:Sunset Hills Golf Course and Pekin Moose Family Center
UID:e.112.3216
SEQUENCE:3
DTSTAMP:20260424T051043Z
URL:http://www.business.pekinchamber.com/events/details/brad-campbell-memorial-tourney-08-30-2008-3216
END:VEVENT

END:VCALENDAR
