BEGIN:VCALENDAR
VERSION:2.0
PRODID:-//ChamberMaster//Event Calendar 2.0//EN
METHOD:PUBLISH
X-PUBLISHED-TTL:P3D
REFRESH-INTERVAL:P3D
CALSCALE:GREGORIAN
BEGIN:VEVENT
DTSTART:20090311T210000Z
DTEND:20090311T220000Z
X-MICROSOFT-CDO-ALLDAYEVENT:FALSE
SUMMARY:Board of Directors Meeting
DESCRIPTION:Chamber Board of Directors Meeting
X-ALT-DESC;FMTTYPE=text/html:<div>Chamber Board of Directors Meeting</div>
LOCATION:Herget BankGarden Level Conference Room
UID:e.112.3358
SEQUENCE:3
DTSTAMP:20260423T185539Z
URL:http://www.business.pekinchamber.com/events/details/board-of-directors-meeting-03-11-2009-3358
END:VEVENT

END:VCALENDAR
