BEGIN:VCALENDAR
VERSION:2.0
PRODID:-//ChamberMaster//Event Calendar 2.0//EN
METHOD:PUBLISH
X-PUBLISHED-TTL:P3D
REFRESH-INTERVAL:P3D
CALSCALE:GREGORIAN
BEGIN:VEVENT
DTSTART:20091209T220000Z
DTEND:20091209T230000Z
X-MICROSOFT-CDO-ALLDAYEVENT:FALSE
SUMMARY:Board of Directors Christmas Party
DESCRIPTION:Chamber Board of Directors Christmas Party
X-ALT-DESC;FMTTYPE=text/html:<div>Chamber Board of Directors Christmas Party</div>
LOCATION:Mike Vonderheides'
UID:e.112.3368
SEQUENCE:3
DTSTAMP:20260423T054310Z
URL:http://www.business.pekinchamber.com/events/details/board-of-directors-christmas-party-12-09-2009-3368
END:VEVENT

END:VCALENDAR
