BEGIN:VCALENDAR
VERSION:2.0
PRODID:-//ChamberMaster//Event Calendar 2.0//EN
METHOD:PUBLISH
X-PUBLISHED-TTL:P3D
REFRESH-INTERVAL:P3D
CALSCALE:GREGORIAN
BEGIN:VEVENT
DTSTART:20101209T000000Z
DTEND:20101209T030000Z
X-MICROSOFT-CDO-ALLDAYEVENT:FALSE
SUMMARY:Board of Directors and Past Presidents Christmas Party
DESCRIPTION:Chamber Board of Directors and Past Presidents Christmas Party
X-ALT-DESC;FMTTYPE=text/html:<div>\n	Chamber Board of Directors and Past Presidents Christmas Party</div>\n
LOCATION:Speakeasy Art Center 353 Court St. Pekin\, IL 61554
UID:e.112.4735
SEQUENCE:3
DTSTAMP:20260422T113304Z
URL:http://www.business.pekinchamber.com/events/details/board-of-directors-and-past-presidents-christmas-party-12-08-2010-4735
END:VEVENT

END:VCALENDAR
