BEGIN:VCALENDAR
VERSION:2.0
PRODID:-//ChamberMaster//Event Calendar 2.0//EN
METHOD:PUBLISH
X-PUBLISHED-TTL:P3D
REFRESH-INTERVAL:P3D
CALSCALE:GREGORIAN
BEGIN:VEVENT
DTSTART:20111208T000000Z
DTEND:20111208T030000Z
X-MICROSOFT-CDO-ALLDAYEVENT:FALSE
SUMMARY:Board Christmas Party
DESCRIPTION:
X-ALT-DESC;FMTTYPE=text/html:
LOCATION:The Clubs at Sunset Hills\, Mashies Pub 1620 Summit
UID:e.112.5387
SEQUENCE:3
DTSTAMP:20260420T131927Z
URL:http://www.business.pekinchamber.com/events/details/board-christmas-party-12-07-2011-5387
END:VEVENT

END:VCALENDAR
