BEGIN:VCALENDAR
VERSION:2.0
PRODID:-//ChamberMaster//Event Calendar 2.0//EN
METHOD:PUBLISH
X-PUBLISHED-TTL:P3D
REFRESH-INTERVAL:P3D
CALSCALE:GREGORIAN
BEGIN:VEVENT
DTSTART:20110213T010000Z
DTEND:20110213T040000Z
X-MICROSOFT-CDO-ALLDAYEVENT:FALSE
SUMMARY:Big Yellow Smiley Face at Paddy O'Flaherty's
DESCRIPTION:BYSF will be playing from 7-10pm.  Come out to celebrate Valentine's Day weekend with your sweetheart at Paddy O'Flaherty's.  Dinner specials will be available.
X-ALT-DESC;FMTTYPE=text/html:BYSF will be playing from 7-10pm.  Come out to celebrate Valentine's Day weekend with your sweetheart at Paddy O'Flaherty's.  Dinner specials will be available.
LOCATION:
UID:e.112.5320
SEQUENCE:3
DTSTAMP:20260422T084525Z
URL:http://www.business.pekinchamber.com/events/details/big-yellow-smiley-face-at-paddy-o-flaherty-s-02-12-2011-5320
END:VEVENT

END:VCALENDAR
