BEGIN:VCALENDAR
VERSION:2.0
PRODID:-//ChamberMaster//Event Calendar 2.0//EN
METHOD:PUBLISH
X-PUBLISHED-TTL:P3D
REFRESH-INTERVAL:P3D
CALSCALE:GREGORIAN
BEGIN:VEVENT
DTSTART:20101119T223000Z
DTEND:20101120T010000Z
X-MICROSOFT-CDO-ALLDAYEVENT:FALSE
SUMMARY:BeadforLife Party Fundraiser
DESCRIPTION:Dr. Michele Moul will be hosting a BeadforLife Party fundraiser on Friday\, November 19\, 2010 from 4:30 p.m. - 7:00 p.m. at CJ's Caf \, 404 Court Street\, Pekin. CJ's Caf  will be open for dinner during the fundraiser.\n\n\n\nThe BeadforLife Party will feature unique\, colorful beads hand-rolled from recycled paper by Ugandan women. A large variety of loose beads\, bracelets\, earrings\, and necklaces will be presented in many different styles. Prices run from $5 to $30.\n\n\n\nAll proceeds benefit BeadforLife. Women work their way out of extreme poverty through the sale of these Beads. The income received enables them to purchase food\, healthcare\, education and housing.\n\n\n\nThe event is open to the public. For more information\, please call (309) 347-0404.
X-ALT-DESC;FMTTYPE=text/html:Dr. Michele Moul will be hosting a BeadforLife Party fundraiser on Friday\, November 19\, 2010 from 4:30 p.m. - 7:00 p.m. at CJ&#39\;s Caf&eacute\;\, 404 Court Street\, Pekin. CJ&#39\;s Caf&eacute\; will be open for dinner during the fundraiser.<br />\n<br />\nThe BeadforLife Party will feature unique\, colorful beads hand-rolled from recycled paper by Ugandan women. A large variety of loose beads\, bracelets\, earrings\, and necklaces will be presented in many different styles. Prices run from $5 to $30.<br />\n<br />\nAll proceeds benefit BeadforLife. Women work their way out of extreme poverty through the sale of these Beads. The income received enables them to purchase food\, healthcare\, education and housing.<br />\n<br />\nThe event is open to the public. For more information\, please call (309) 347-0404.
LOCATION:CJ's Cafe´
UID:e.112.4934
SEQUENCE:3
DTSTAMP:20260422T130018Z
URL:http://www.business.pekinchamber.com/events/details/beadforlife-party-fundraiser-11-19-2010-4934
END:VEVENT

END:VCALENDAR
