BEGIN:VCALENDAR
VERSION:2.0
PRODID:-//ChamberMaster//Event Calendar 2.0//EN
METHOD:PUBLISH
X-PUBLISHED-TTL:P3D
REFRESH-INTERVAL:P3D
CALSCALE:GREGORIAN
BEGIN:VEVENT
DTSTART:20081023T173000Z
DTEND:20081023T180000Z
X-MICROSOFT-CDO-ALLDAYEVENT:FALSE
SUMMARY:Anytime Fitness Ribbon Cutting
DESCRIPTION:Ribbon Cutting event to welcome Anytime Fitness to Pekin\, as part of their Grand Opening celebration.
X-ALT-DESC;FMTTYPE=text/html:<div>Ribbon Cutting event to welcome Anytime Fitness to Pekin\, as part of their Grand Opening celebration.</div>
LOCATION:2117 Court Street\, behind Little Ceasers.
UID:e.112.3223
SEQUENCE:3
DTSTAMP:20260424T024233Z
URL:http://www.business.pekinchamber.com/events/details/anytime-fitness-ribbon-cutting-10-23-2008-3223
END:VEVENT

END:VCALENDAR
