BEGIN:VCALENDAR
VERSION:2.0
PRODID:-//ChamberMaster//Event Calendar 2.0//EN
METHOD:PUBLISH
X-PUBLISHED-TTL:P3D
REFRESH-INTERVAL:P3D
CALSCALE:GREGORIAN
BEGIN:VEVENT
DTSTART:20090427T213000Z
DTEND:20090428T000000Z
X-MICROSOFT-CDO-ALLDAYEVENT:FALSE
SUMMARY:Annual Meeting & Reception
DESCRIPTION:Serving the Business Community for 117 YearsThe Pekin Area Chamber of Commerce Board of Directors invites you to attend theirAnnual Meeting And Reception Monday\, April 27\, 2009Pekin Country Club Tickets are $25 - Tables of 8 are $200 Doors open at 4:30pmIntroductions at 5:30pmEntertainment by the PCHS Noteables Show ChoirGuest Speaker Dr. Paul Sebesta\, Director of NCAUR (Peoria Ag Lab)
X-ALT-DESC;FMTTYPE=text/html:<div>&nbsp\;</div><div align="center">Serving the Business Community for 117 Years</div><div align="center">The Pekin Area Chamber of Commerce Board of Directors invites you to attend their</div><div align="center">Annual Meeting And Reception</div><div align="center">&nbsp\;</div><div align="center">Monday\, April 27\, 2009</div><div align="center">Pekin Country Club</div><div align="center">&nbsp\;</div><div align="center">Tickets are $25 - Tables of 8 are $200</div><div align="center">&nbsp\;</div><div align="center">Doors open at 4:30pm</div><div align="center">Introductions at 5:30pm</div><div align="center">Entertainment by the PCHS Noteables Show Choir</div><div align="center">Guest Speaker Dr. Paul Sebesta\, Director of NCAUR (Peoria Ag Lab)</div>
LOCATION:Pekin Country Club310 Country Club Drive
UID:e.112.3656
SEQUENCE:3
DTSTAMP:20260423T171725Z
URL:http://www.business.pekinchamber.com/events/details/annual-meeting-reception-04-27-2009-3656
END:VEVENT

END:VCALENDAR
