BEGIN:VCALENDAR
VERSION:2.0
PRODID:-//ChamberMaster//Event Calendar 2.0//EN
METHOD:PUBLISH
X-PUBLISHED-TTL:P3D
REFRESH-INTERVAL:P3D
CALSCALE:GREGORIAN
BEGIN:VEVENT
DTSTART:20091215T220000Z
DTEND:20091215T230000Z
X-MICROSOFT-CDO-ALLDAYEVENT:FALSE
SUMMARY:Annual Meeting Committee
DESCRIPTION:Committee meeting for the group charged with planning the April 2010 chamber annual meeting.
X-ALT-DESC;FMTTYPE=text/html:<div>Committee meeting for the group charged with planning the April 2010 chamber annual meeting.</div>
LOCATION:Pekin Area Chamber of Commerce402 Court
UID:e.112.3735
SEQUENCE:3
DTSTAMP:20260423T054238Z
URL:http://www.business.pekinchamber.com/events/details/annual-meeting-committee-12-15-2009-3735
END:VEVENT

END:VCALENDAR
