BEGIN:VCALENDAR
VERSION:2.0
PRODID:-//ChamberMaster//Event Calendar 2.0//EN
METHOD:PUBLISH
X-PUBLISHED-TTL:P3D
REFRESH-INTERVAL:P3D
CALSCALE:GREGORIAN
BEGIN:VEVENT
DTSTART:20100419T213000Z
DTEND:20100420T000000Z
X-MICROSOFT-CDO-ALLDAYEVENT:FALSE
SUMMARY:Annual Meeting
DESCRIPTION:Serving the Business Community for 118 YearsThe Pekin Area Chamber of Commerce Board of Directors invites you to attend theirAnnual Meeting and Reception Monday April 19\, 2010Pekin Country Club Tickets are $25 - Tables of 8 are available for $200 Doors open at 4:30pmIntroductions at 5:30pm Entertainment by Pekin Civic Chorus
X-ALT-DESC;FMTTYPE=text/html:<div style="text-align: center">Serving the Business Community for 118 Years</div><div style="text-align: center">The Pekin Area Chamber of Commerce Board of Directors invites you to attend their</div><div style="text-align: center">Annual Meeting and Reception</div><div style="text-align: center">&nbsp\;</div><div style="text-align: center">Monday April 19\, 2010</div><div style="text-align: center">Pekin Country Club</div><div style="text-align: center">&nbsp\;</div><div style="text-align: center">Tickets are&nbsp\;$25 - Tables of 8 are available for $200</div><div style="text-align: center">&nbsp\;</div><div style="text-align: center">Doors open at 4:30pm</div><div style="text-align: center">Introductions at 5:30pm</div><div style="text-align: center">&nbsp\;</div><div style="text-align: center">Entertainment by Pekin Civic Chorus</div><div style="text-align: center">&nbsp\;</div>
LOCATION:Pekin Country Club310 Country Club Drive
UID:e.112.4862
SEQUENCE:3
DTSTAMP:20260422T233746Z
URL:http://www.business.pekinchamber.com/events/details/annual-meeting-04-19-2010-4862
END:VEVENT

END:VCALENDAR
